BEGIN:VCALENDAR
VERSION:2.0
PRODID:icalendar-ruby
CALSCALE:GREGORIAN
METHOD:PUBLISH
BEGIN:VEVENT
DTSTAMP:20260424T140621Z
UID:465-18722@firstchurchrf.org
DTSTART:20261022T233000Z
DTEND:20261023T003000Z
CLASS:PUBLIC
CREATED:20260415T151529
DESCRIPTION:
LAST-MODIFIED:20260415T151529
LOCATION:
SUMMARY:NAMI Peer Support Group
URL;VALUE=URI:https://www.firstchurchrf.org/events/nami-peer-support-group/
 2026-10-22
END:VEVENT
END:VCALENDAR
